BEGIN:VCALENDAR
VERSION:2.0
CALSCALE:GREGORIAN
PRODID:adamgibbons/ics
METHOD:PUBLISH
X-PUBLISHED-TTL:PT1H
BEGIN:VEVENT
UID:4796@lapunta.org
SUMMARY:DALLA ROTTA BALCANICA ALL'ITALIA: racconti di repressione e di lott
	e
DTSTAMP:20260421T123439Z
DTSTART:20250419T153000Z
DTEND:20250420T103000Z
DESCRIPTION:DALLA ROTTA BALCANICA ALL'ITALIA: racconti di repressione e di 
	lotte\n\nCosa significa percorrere migliaia di chilometri a piedi e attrav
	ersare confini\nsenza documenti? Come si possono supportare le migliaia di
	 persone in movimento\nverso i paesi europei?\n\nNe parliamo insieme a com
	pagnx di @collettivorottebalcaniche e @nonamekitchen\,\nche portano avanti
	 progetti di solidarietà lungo la rotta balcanica. Discuteremo\ndella repr
	essione e delle lotte\, soprattutto in Bulgaria\, dove la violenza verso\n
	le persone in movimento e lx solidali è altissima e in continuo aumento.\n
	\nIl Collettivo Rotte Balcaniche presenterà il progetto Border Memory\, ch
	e nasce\ndall’incontro con le famiglie i cui cari sono scomparsi sul confi
	ne tra Bulgaria\ne Turchia. L'obiettivo è la creazione di una contro-memor
	ia pubblica del\nconfine\, delle sue sofferenze e delle sue resistenze.\n\
	nParleremo anche dello sfruttamento e della violenza che le persone razzia
	lizzate\nvivono una volta arrivate in Italia. Lx compagnx di @campagneinlo
	tta ci\nparleranno delle forme di auto-organizzazione collettiva contro lo
	 sfruttamento\nnell'agroindustria in Sud Italia\, e dell'aumento delle dep
	ortazioni dall'Italia\nnegli ultimi mesi.\n\nA seguire cena con pakora\, r
	iso biryani\, curry di lenticchie e tanto altro. La\ncena sarà a offerta l
	ibera e l'intero ricavato sarà devoluto allx compagnx di\n@noborderkitchen
	lesvos\, per sostenere i loro progetti in solidarietà con le\npersone in m
	ovimento in Grecia.\n\nPrenotati in dm o su whatsapp al 3458687980 entro i
	l 17 Aprile\n\nA seguire dj set con:\n\nSaxDoll (Jazz/Hip Hop)\n\n@signore
	ssafreddylrg (techno)\n\nOloturia (Chiptune)
URL:https://lapunta.org/event/dalla-rotta-balcanica-allitalia-racconti-di-r
	epressione-e-di-lotte
LOCATION:Occupazione via del Leone - Via del Leone 60/62
STATUS:CONFIRMED
CATEGORIES:no border
X-ALT-DESC;FMTTYPE=text/html:<p>DALLA ROTTA BALCANICA ALL'ITALIA: racconti 
	di repressione e di lotte</p><p>Cosa significa percorrere migliaia di chil
	ometri a piedi e attraversare confini senza documenti? Come si possono sup
	portare le migliaia di persone in movimento verso i paesi europei?</p><p>N
	e parliamo insieme a compagnx di @collettivorottebalcaniche e @nonamekitch
	en, che portano avanti progetti di solidarietà lungo la rotta balcanica. D
	iscuteremo della repressione e delle lotte, soprattutto in Bulgaria, dove 
	la violenza verso le persone in movimento e lx solidali è altissima e in c
	ontinuo aumento.</p><p>Il Collettivo Rotte Balcaniche presenterà il proget
	to Border Memory, che nasce dall’incontro con le famiglie i cui cari sono 
	scomparsi sul confine tra Bulgaria e Turchia. L'obiettivo è la creazione d
	i una contro-memoria pubblica del confine, delle sue sofferenze e delle su
	e resistenze. </p><p>Parleremo anche dello sfruttamento e della violenza c
	he le persone razzializzate vivono una volta arrivate in Italia. Lx compag
	nx di @campagneinlotta ci parleranno delle forme di auto-organizzazione co
	llettiva contro lo sfruttamento nell'agroindustria in Sud Italia, e dell'a
	umento delle deportazioni dall'Italia negli ultimi mesi.</p><p>A seguire c
	ena con pakora, riso biryani, curry di lenticchie e tanto altro. La cena s
	arà a offerta libera e l'intero ricavato sarà devoluto allx compagnx di @n
	oborderkitchenlesvos, per sostenere i loro progetti in solidarietà con le 
	persone in movimento in Grecia.</p><p>Prenotati in dm o su whatsapp al 345
	8687980 entro il 17 Aprile</p><p>A seguire dj set con:</p><p>SaxDoll (Jazz
	/Hip Hop)</p><p>@signoressa<em>freddy</em>lrg (techno)</p><p>Oloturia (Chi
	ptune)</p>
END:VEVENT
END:VCALENDAR
